BEGIN:VCALENDAR
VERSION:2.0
PRODID:-//ChamberMaster//Event Calendar 2.0//EN
METHOD:PUBLISH
X-PUBLISHED-TTL:P3D
REFRESH-INTERVAL:P3D
CALSCALE:GREGORIAN
BEGIN:VEVENT
DTSTART:20240606T213000Z
DTEND:20240606T220000Z
X-MICROSOFT-CDO-ALLDAYEVENT:FALSE
SUMMARY:RIBBON CUTTING: Serendipity Salon and Gallery
DESCRIPTION:Ambassadors will host a ribbon cutting celebrating Serendipity Salon and Gallery's three year anniversary and expansion.
X-ALT-DESC;FMTTYPE=text/html:<span style="font-size:14px\;"><span style="font-family:verdana\;">Ambassadors will host a ribbon cutting celebrating Serendipity Salon and Gallery&#39\;s three year anniversary and expansion.</span></span>
LOCATION:Serendipity Salon and Gallery 1020 E Walnut St. Columbia MO 65203
UID:e.2790.11247
SEQUENCE:3
DTSTAMP:20260421T191201Z
URL:https://business.comochamber.com/events/details/ribbon-cutting-serendipity-salon-and-gallery-11247
END:VEVENT

END:VCALENDAR
