BEGIN:VCALENDAR
VERSION:2.0
PRODID:-//ChamberMaster//Event Calendar 2.0//EN
METHOD:PUBLISH
X-PUBLISHED-TTL:P3D
REFRESH-INTERVAL:P3D
CALSCALE:GREGORIAN
BEGIN:VEVENT
DTSTART:20230128T050000Z
DTEND:20230128T053000Z
X-MICROSOFT-CDO-ALLDAYEVENT:FALSE
SUMMARY:RIBBON CUTTING: Scooters Coffee in Ashland MO
DESCRIPTION:Ambassadors will host a ribbon cutting celebrating Scooters Coffee in Ashland MO.
X-ALT-DESC;FMTTYPE=text/html:<span style="font-size:14px\;"><span style="font-family:verdana\;">Ambassadors will host a ribbon cutting celebrating Scooters Coffee in Ashland MO.</span></span>
LOCATION:Scooters Coffee in Ashland 605 E Broadway Ashland MO 65010
UID:e.2790.10550
SEQUENCE:3
DTSTAMP:20260423T005254Z
URL:https://business.comochamber.com/events/details/ribbon-cutting-scooters-coffee-in-ashland-mo-10550
END:VEVENT

END:VCALENDAR
