BEGIN:VCALENDAR
VERSION:2.0
PRODID:-//ChamberMaster//Event Calendar 2.0//EN
METHOD:PUBLISH
X-PUBLISHED-TTL:P3D
REFRESH-INTERVAL:P3D
CALSCALE:GREGORIAN
BEGIN:VEVENT
DTSTART:20231012T210000Z
DTEND:20231012T213000Z
X-MICROSOFT-CDO-ALLDAYEVENT:FALSE
SUMMARY:RIBBON CUTTING: RSI Kitchen and Bath
DESCRIPTION:Ambassadors will host a ribbon cutting celebrating RSI Kitchen and Bath's Grand Opening and New Location.
X-ALT-DESC;FMTTYPE=text/html:<span style="font-size:14px\;"><span style="font-family:verdana\;">Ambassadors will host a ribbon cutting celebrating RSI Kitchen and Bath&#39\;s Grand Opening and New Location.</span></span>
LOCATION:RSI Kitchen and Bath 3302 Broadway Business Park Ct. Columbia MO 65203
UID:e.2790.11174
SEQUENCE:3
DTSTAMP:20260422T101144Z
URL:https://business.comochamber.com/events/details/ribbon-cutting-rsi-kitchen-and-bath-11174
END:VEVENT

END:VCALENDAR
