BEGIN:VCALENDAR
VERSION:2.0
PRODID:-//ChamberMaster//Event Calendar 2.0//EN
METHOD:PUBLISH
X-PUBLISHED-TTL:P3D
REFRESH-INTERVAL:P3D
CALSCALE:GREGORIAN
BEGIN:VEVENT
DTSTART:20241001T214500Z
DTEND:20241001T221500Z
X-MICROSOFT-CDO-ALLDAYEVENT:FALSE
SUMMARY:RIBBON CUTTING: Retuva Medical Spa
DESCRIPTION:The Ambassadors will perform a ribbon cutting to celebrate the organization's 1st year anniversary.
X-ALT-DESC;FMTTYPE=text/html:The Ambassadors will perform a ribbon cutting to celebrate the organization&#39\;s 1st year anniversary.
LOCATION:Retuva Medical Spa 3301 W Broadway Business Park Court Columbia\, MO 65203
UID:e.2790.11633
SEQUENCE:3
DTSTAMP:20260421T104834Z
URL:https://business.comochamber.com/events/details/ribbon-cutting-retuva-medical-spa-11633
END:VEVENT

END:VCALENDAR
