BEGIN:VCALENDAR
VERSION:2.0
PRODID:-//ChamberMaster//Event Calendar 2.0//EN
METHOD:PUBLISH
X-PUBLISHED-TTL:P3D
REFRESH-INTERVAL:P3D
CALSCALE:GREGORIAN
BEGIN:VEVENT
DTSTART:20240515T210000Z
DTEND:20240515T213000Z
X-MICROSOFT-CDO-ALLDAYEVENT:FALSE
SUMMARY:RIBBON CUTTING: Resilient Counseling and Psychiatry
DESCRIPTION:Ambassadors will host a ribbon cutting celebrating Resilient Counseling and Psychiatry's Gran Opening.
X-ALT-DESC;FMTTYPE=text/html:<span style="font-size:14px\;"><span style="font-family:verdana\;">Ambassadors will host a ribbon cutting celebrating Resilient Counseling and Psychiatry&#39\;s Gran Opening.</span></span>
LOCATION:Resilient Counseling and Psychiatry 401 West Boulevard North\, Ste. D Columbia MO 65203
UID:e.2790.11255
SEQUENCE:3
DTSTAMP:20260421T205552Z
URL:https://business.comochamber.com/events/details/ribbon-cutting-resilient-counseling-and-psychiatry-11255
END:VEVENT

END:VCALENDAR
