BEGIN:VCALENDAR
VERSION:2.0
PRODID:-//ChamberMaster//Event Calendar 2.0//EN
METHOD:PUBLISH
X-PUBLISHED-TTL:P3D
REFRESH-INTERVAL:P3D
CALSCALE:GREGORIAN
BEGIN:VEVENT
DTSTART:20250522T200000Z
DTEND:20250522T203000Z
X-MICROSOFT-CDO-ALLDAYEVENT:FALSE
SUMMARY:RIBBON CUTTING: Renew Missouri
DESCRIPTION:The Ambassadors will perform a ribbon cutting to celebrate Renew Missouri's new office space.
X-ALT-DESC;FMTTYPE=text/html:The Ambassadors will perform a ribbon cutting to celebrate Renew Missouri&#39\;s new office space.
LOCATION:501 Fay St. Ste 206 Columbia\, MO 65201
UID:e.2790.12018
SEQUENCE:3
DTSTAMP:20260421T025105Z
URL:https://business.comochamber.com/events/details/ribbon-cutting-renew-missouri-12018
END:VEVENT

END:VCALENDAR
