BEGIN:VCALENDAR
VERSION:2.0
PRODID:-//ChamberMaster//Event Calendar 2.0//EN
METHOD:PUBLISH
X-PUBLISHED-TTL:P3D
REFRESH-INTERVAL:P3D
CALSCALE:GREGORIAN
BEGIN:VEVENT
DTSTART:20240814T211500Z
DTEND:20240814T214500Z
X-MICROSOFT-CDO-ALLDAYEVENT:FALSE
SUMMARY:RIBBON CUTTING: REDI
DESCRIPTION:Ambassadors will host a ribbon cutting celebrating REDI's 1 Million Cups 11-year anniversary celebration
X-ALT-DESC;FMTTYPE=text/html:<span style="font-size:14px\;"><span style="font-family:verdana\;">Ambassadors will host a ribbon cutting celebrating REDI&#39\;s 1 Million Cups 11-year anniversary celebration</span></span>
LOCATION:Logboat 504 Fay St. Columbia MO 65201
UID:e.2790.11448
SEQUENCE:3
DTSTAMP:20260421T140856Z
URL:https://business.comochamber.com/events/details/ribbon-cutting-redi-11448
END:VEVENT

END:VCALENDAR
