BEGIN:VCALENDAR
VERSION:2.0
PRODID:-//ChamberMaster//Event Calendar 2.0//EN
METHOD:PUBLISH
X-PUBLISHED-TTL:P3D
REFRESH-INTERVAL:P3D
CALSCALE:GREGORIAN
BEGIN:VEVENT
DTSTART:20251124T213000Z
DTEND:20251124T213000Z
X-MICROSOFT-CDO-ALLDAYEVENT:FALSE
SUMMARY:RIBBON CUTTING: QuesTec
DESCRIPTION:The Ambassadors will perform a ribbon cutting to celebrate the grand opening of a new state of the art prefabrication shop.
X-ALT-DESC;FMTTYPE=text/html:<!--StartFragment--><span data-olk-copy-source="MessageBody" style="font-family: Arial\, sans-serif\; font-size: 11pt\; color: black\;">The Ambassadors will perform a ribbon cutting to celebrate the grand opening of a new state of the art prefabrication shop.</span><!--EndFragment-->
LOCATION:1390 east Boone industrial blvd Columbia mo 65202
UID:e.2790.12274
SEQUENCE:3
DTSTAMP:20260420T165426Z
URL:https://business.comochamber.com/events/details/ribbon-cutting-questec-12274
END:VEVENT

END:VCALENDAR
