BEGIN:VCALENDAR
VERSION:2.0
PRODID:-//ChamberMaster//Event Calendar 2.0//EN
METHOD:PUBLISH
X-PUBLISHED-TTL:P3D
REFRESH-INTERVAL:P3D
CALSCALE:GREGORIAN
BEGIN:VEVENT
DTSTART:20230804T210000Z
DTEND:20230804T213000Z
X-MICROSOFT-CDO-ALLDAYEVENT:FALSE
SUMMARY:RIBBON CUTTING: Pyramids Mental Health
DESCRIPTION:Ambassadors will host a ribbon cutting celebrating Pyramids Mental Health's grand opening and new location.
X-ALT-DESC;FMTTYPE=text/html:<span style="font-size:14px\;"><span style="font-family:verdana\;">Ambassadors will host a ribbon cutting celebrating Pyramids Mental Health&#39\;s grand opening and new location.</span></span>
LOCATION:Pyramids Mental Health 303 North Stadium Blvd Suite 200 Columbia\, MO 65203
UID:e.2790.11077
SEQUENCE:3
DTSTAMP:20260422T121739Z
URL:https://business.comochamber.com/events/details/ribbon-cutting-pyramids-mental-health-11077
END:VEVENT

END:VCALENDAR
