BEGIN:VCALENDAR
VERSION:2.0
PRODID:-//ChamberMaster//Event Calendar 2.0//EN
METHOD:PUBLISH
X-PUBLISHED-TTL:P3D
REFRESH-INTERVAL:P3D
CALSCALE:GREGORIAN
BEGIN:VEVENT
DTSTART:20241003T213000Z
DTEND:20241003T220000Z
X-MICROSOFT-CDO-ALLDAYEVENT:FALSE
SUMMARY:RIBBON CUTTING: Prost Builders\, Inc
DESCRIPTION:Ambassadors will perform a ribbon cutting to celebrate the 75th anniversary of Prost Builders\, Inc.
X-ALT-DESC;FMTTYPE=text/html:Ambassadors will perform a ribbon cutting to celebrate the 75th anniversary of Prost Builders\, Inc.
LOCATION:Columbia Country Club 2210 Country Club Drive Columbia\, MO 65201
UID:e.2790.11482
SEQUENCE:3
DTSTAMP:20260421T104750Z
URL:https://business.comochamber.com/events/details/ribbon-cutting-prost-builders-inc-11482
END:VEVENT

END:VCALENDAR
