BEGIN:VCALENDAR
VERSION:2.0
PRODID:-//ChamberMaster//Event Calendar 2.0//EN
METHOD:PUBLISH
X-PUBLISHED-TTL:P3D
REFRESH-INTERVAL:P3D
CALSCALE:GREGORIAN
BEGIN:VEVENT
DTSTART:20240228T223000Z
DTEND:20240228T230000Z
X-MICROSOFT-CDO-ALLDAYEVENT:FALSE
SUMMARY:RIBBON CUTTING: Prime IV Hydration and Wellness
DESCRIPTION:Ambassadors will host a ribbon cutting celebrating Prime IV Hydration and Wellness Grand Opening
X-ALT-DESC;FMTTYPE=text/html:<span style="font-size:14px\;"><span style="font-family:verdana\;">Ambassadors will host a ribbon cutting celebrating Prime IV Hydration and Wellness Grand Opening</span></span>
LOCATION:Prime IV Hydration and Wellness 2703 East Broadway\, Ste. 226 Columbia MO 65201
UID:e.2790.11212
SEQUENCE:3
DTSTAMP:20260422T015411Z
URL:https://business.comochamber.com/events/details/ribbon-cutting-prime-iv-hydration-and-wellness-11212
END:VEVENT

END:VCALENDAR
