BEGIN:VCALENDAR
VERSION:2.0
PRODID:-//ChamberMaster//Event Calendar 2.0//EN
METHOD:PUBLISH
X-PUBLISHED-TTL:P3D
REFRESH-INTERVAL:P3D
CALSCALE:GREGORIAN
BEGIN:VEVENT
DTSTART:20230803T170000Z
DTEND:20230803T173000Z
X-MICROSOFT-CDO-ALLDAYEVENT:FALSE
SUMMARY:RIBBON CUTTING: Platinum Paws LLC
DESCRIPTION:Ambassadors will host a ribbon cutting celebrating Platinum Paws LLC's Grand Opening.
X-ALT-DESC;FMTTYPE=text/html:<span style="font-size:14px\;"><span style="font-family:verdana\;">Ambassadors will host a ribbon cutting celebrating Platinum Paws LLC&#39\;s Grand Opening.</span></span>
LOCATION:Platinum Paws LLC 3410 W Broadway Business Park Ct. Ste. 107 Columbia MO 65203
UID:e.2790.10931
SEQUENCE:3
DTSTAMP:20260422T121624Z
URL:https://business.comochamber.com/events/details/ribbon-cutting-platinum-paws-llc-10931
END:VEVENT

END:VCALENDAR
