BEGIN:VCALENDAR
VERSION:2.0
PRODID:-//ChamberMaster//Event Calendar 2.0//EN
METHOD:PUBLISH
X-PUBLISHED-TTL:P3D
REFRESH-INTERVAL:P3D
CALSCALE:GREGORIAN
BEGIN:VEVENT
DTSTART:20230503T184500Z
DTEND:20230503T191500Z
X-MICROSOFT-CDO-ALLDAYEVENT:FALSE
SUMMARY:RIBBON CUTTING: Pixel Jam Digital
DESCRIPTION:Ambassadors will host a ribbon cutting celebrating one of our Small Business of the Year Finalist Pixel Jam Digital.
X-ALT-DESC;FMTTYPE=text/html:<span style="font-size:14px\;"><span style="font-family:verdana\;">Ambassadors will host a ribbon cutting celebrating one of our Small Business of the Year Finalist Pixel Jam Digital.</span></span>
LOCATION:Selfie Love 804 Locust St. Columbia MO 65201
UID:e.2790.10844
SEQUENCE:3
DTSTAMP:20260422T191556Z
URL:https://business.comochamber.com/events/details/ribbon-cutting-pixel-jam-digital-10844
END:VEVENT

END:VCALENDAR
