BEGIN:VCALENDAR
VERSION:2.0
PRODID:-//ChamberMaster//Event Calendar 2.0//EN
METHOD:PUBLISH
X-PUBLISHED-TTL:P3D
REFRESH-INTERVAL:P3D
CALSCALE:GREGORIAN
BEGIN:VEVENT
DTSTART:20201007T170000Z
DTEND:20201007T173000Z
X-MICROSOFT-CDO-ALLDAYEVENT:FALSE
SUMMARY:RIBBON CUTTING: PedNet Coalition
DESCRIPTION:Ambassadors will host a ribbon cutting celebrating one of our Small Business of the Year 2020 Finalist PedNet Coalition.\n\n\n\n\n\nPedNet is an independent nonprofit that provides walking\, biking\, and transit solutions to meet people's everyday transportation needs.
X-ALT-DESC;FMTTYPE=text/html:<span style="font-size:14px\;"><span style="font-family:verdana\;">Ambassadors will host a ribbon cutting celebrating one of our Small Business of the Year 2020 Finalist PedNet Coalition.</span></span><br />\n<br />\n<br />\n<span style="font-family: verdana\; font-size: 14px\;">PedNet is an independent nonprofit that provides walking\, biking\, and transit solutions to meet people&rsquo\;s everyday transportation needs.&nbsp\;</span>
LOCATION:PedNet Coalition 201 W Broadway\, Bldg.2 Ste.A Columbia MO 65205 Please Note* In Person location is listed for the hand full of Ambassadors conducting the ribbon cutting ceremony. "Please join us all virtually by clicking on the zoom link below." WEDNESDAY\, OCTOBER 7 Event Start: 12 p.m. Ribbon cutting to follow + PedNet Coalition Small Business of the Year 2020 Finalist Virtual: Join Zoom Meeting https://us02web.zoom.us/j/83581348818 Meeting ID: 835 8134 8818 Dial by your location +1 312 626 6799 US (Chicago) Event Held: Outside In Person Location: 201 W Broadway\, Bldg. 2 Ste. A Taking Place: Outside of the PedNet Coalition office by the bike racks. Parking: Free parking in large parking lot on site. Guideline Requirements: No building entry\, masks and social distancing. Contact: Lawrence Simonson 785-341-2878 Program: Brief introductions and overview by PedNet staff\, not more than 10-15 mins
UID:e.2790.7457
SEQUENCE:3
DTSTAMP:20260423T114404Z
URL:https://business.comochamber.com/events/details/ribbon-cutting-pednet-coalition-7457
END:VEVENT

END:VCALENDAR
