BEGIN:VCALENDAR
VERSION:2.0
PRODID:-//ChamberMaster//Event Calendar 2.0//EN
METHOD:PUBLISH
X-PUBLISHED-TTL:P3D
REFRESH-INTERVAL:P3D
CALSCALE:GREGORIAN
BEGIN:VEVENT
DTSTART:20240805T160000Z
DTEND:20240805T160000Z
X-MICROSOFT-CDO-ALLDAYEVENT:FALSE
SUMMARY:RIBBON CUTTING: Nothing Bundt Cakes
DESCRIPTION:Ambassadors will host a ribbon cutting celebrating Nothing Bundt Cakes 3 year Anniversary.
X-ALT-DESC;FMTTYPE=text/html:<span style="font-size:14px\;"><span style="font-family:verdana\;">Ambassadors will host a ribbon cutting celebrating Nothing Bundt Cakes 3 year Anniversary.</span></span><br />\n&nbsp\;
LOCATION:Nothing Bundt Cakes 2900 Trimble Rd. Ste. 103 Columbia MO 65201
UID:e.2790.11447
SEQUENCE:3
DTSTAMP:20260421T122425Z
URL:https://business.comochamber.com/events/details/ribbon-cutting-nothing-bundt-cakes-11447
END:VEVENT

END:VCALENDAR
