BEGIN:VCALENDAR
VERSION:2.0
PRODID:-//ChamberMaster//Event Calendar 2.0//EN
METHOD:PUBLISH
X-PUBLISHED-TTL:P3D
REFRESH-INTERVAL:P3D
CALSCALE:GREGORIAN
BEGIN:VEVENT
DTSTART:20211203T210000Z
DTEND:20211203T213000Z
X-MICROSOFT-CDO-ALLDAYEVENT:FALSE
SUMMARY:RIBBON CUTTING: Nextrx Pharmacy
DESCRIPTION:Ambassadors will host a ribbon cutting celebrating their grand opening.
X-ALT-DESC;FMTTYPE=text/html:Ambassadors will host a ribbon cutting celebrating their grand opening.
LOCATION:2909 Falling Leaf Ln Ste. A Columbia MO 65201
UID:e.2790.8215
SEQUENCE:3
DTSTAMP:20260423T205317Z
URL:https://business.comochamber.com/events/details/ribbon-cutting-nextrx-pharmacy-8215
END:VEVENT

END:VCALENDAR
