BEGIN:VCALENDAR
VERSION:2.0
PRODID:-//ChamberMaster//Event Calendar 2.0//EN
METHOD:PUBLISH
X-PUBLISHED-TTL:P3D
REFRESH-INTERVAL:P3D
CALSCALE:GREGORIAN
BEGIN:VEVENT
DTSTART:20251002T213000Z
DTEND:20251002T213000Z
X-MICROSOFT-CDO-ALLDAYEVENT:FALSE
SUMMARY:RIBBON CUTTING: Mya's Gourmet Popcorn
DESCRIPTION:The Ambassadors will perform a ribbon cutting to celebrate the Grand Opening of Mya's Gourmet Popcorn's second location!
X-ALT-DESC;FMTTYPE=text/html:<p style="margin-top: 0px\; margin-bottom: 0px\; font-family: Aptos\, sans-serif\;"><span style="font-family: Arial\, Helvetica\, sans-serif\; font-size: 12pt\; color: rgb(0\, 0\, 0)\;">The Ambassadors will perform a ribbon cutting to celebrate the Grand Opening of Mya&#39\;s&nbsp\;Gourmet Popcorn&#39\;s second location!</span></p>\n
LOCATION:1201 Grindstone Parkway\, Suite 110 Columbia\, MO 65201 Missouri 65201 United States
UID:e.2790.12244
SEQUENCE:3
DTSTAMP:20260420T131156Z
URL:https://business.comochamber.com/events/details/ribbon-cutting-mya-s-gourmet-popcorn-12244
END:VEVENT

END:VCALENDAR
