BEGIN:VCALENDAR
VERSION:2.0
PRODID:-//ChamberMaster//Event Calendar 2.0//EN
METHOD:PUBLISH
X-PUBLISHED-TTL:P3D
REFRESH-INTERVAL:P3D
CALSCALE:GREGORIAN
BEGIN:VEVENT
DTSTART:20250314T210000Z
DTEND:20250314T213000Z
X-MICROSOFT-CDO-ALLDAYEVENT:FALSE
SUMMARY:RIBBON CUTTING: Mya's Gourmet Popcorn
DESCRIPTION:The Ambassadors will perform a ribbon cutting to celebrate the new location of Mya's Gourmet Popcorn.
X-ALT-DESC;FMTTYPE=text/html:The Ambassadors will perform a ribbon cutting to celebrate the new location of Mya&#39\;s Gourmet Popcorn.
LOCATION:The Columbia Mall 2300 Bernadette Dr. Suite 600 Columbia\, MO 65203
UID:e.2790.11701
SEQUENCE:3
DTSTAMP:20260421T015533Z
URL:https://business.comochamber.com/events/details/ribbon-cutting-mya-s-gourmet-popcorn-11701
END:VEVENT

END:VCALENDAR
