BEGIN:VCALENDAR
VERSION:2.0
PRODID:-//ChamberMaster//Event Calendar 2.0//EN
METHOD:PUBLISH
X-PUBLISHED-TTL:P3D
REFRESH-INTERVAL:P3D
CALSCALE:GREGORIAN
BEGIN:VEVENT
DTSTART:20241113T221500Z
DTEND:20241113T224500Z
X-MICROSOFT-CDO-ALLDAYEVENT:FALSE
SUMMARY:RIBBON CUTTING: My House Sports Bar and Night Club
DESCRIPTION:The Ambassadors will perform a ribbon cutting to celebrate the opening of the new sports bar area of My House Sports Bar and Night Club.
X-ALT-DESC;FMTTYPE=text/html:The Ambassadors will perform a ribbon cutting to celebrate the opening of the new sports bar area of My House Sports Bar and Night Club.
LOCATION:My House Sports Bar and Night Club 119 South 7th street Columbia\, MO 65201
UID:e.2790.11666
SEQUENCE:3
DTSTAMP:20260421T075502Z
URL:https://business.comochamber.com/events/details/ribbon-cutting-my-house-sports-bar-and-night-club-11666
END:VEVENT

END:VCALENDAR
