BEGIN:VCALENDAR
VERSION:2.0
PRODID:-//ChamberMaster//Event Calendar 2.0//EN
METHOD:PUBLISH
X-PUBLISHED-TTL:P3D
REFRESH-INTERVAL:P3D
CALSCALE:GREGORIAN
BEGIN:VEVENT
DTSTART:20241014T192500Z
DTEND:20241014T195500Z
X-MICROSOFT-CDO-ALLDAYEVENT:FALSE
SUMMARY:RIBBON CUTTING: MU Health Care
DESCRIPTION:The Ambassadors will perform a ribbon cutting to celebrate the new mobile mammography unit.
X-ALT-DESC;FMTTYPE=text/html:The Ambassadors will perform a ribbon cutting to celebrate the new mobile mammography unit.
LOCATION:MU Health Care's South Providence Medical Park 551 Veteren's United Drive Columbia\, MO 65203
UID:e.2790.11630
SEQUENCE:3
DTSTAMP:20260421T093043Z
URL:https://business.comochamber.com/events/details/ribbon-cutting-mu-health-care-11630
END:VEVENT

END:VCALENDAR
