BEGIN:VCALENDAR
VERSION:2.0
PRODID:-//ChamberMaster//Event Calendar 2.0//EN
METHOD:PUBLISH
X-PUBLISHED-TTL:P3D
REFRESH-INTERVAL:P3D
CALSCALE:GREGORIAN
BEGIN:VEVENT
DTSTART:20231013T140000Z
DTEND:20231013T143000Z
X-MICROSOFT-CDO-ALLDAYEVENT:FALSE
SUMMARY:RIBBON CUTTING: MU Health Care
DESCRIPTION:Ambassadors will host a ribbon-cutting ceremony celebrating MU Health Care's First Annual Health System Expo.
X-ALT-DESC;FMTTYPE=text/html:<span style="font-size:14px\;"><span style="font-family:verdana\;">Ambassadors will host a ribbon-cutting ceremony celebrating MU Health Care&#39\;s First Annual Health System Expo.</span></span>
LOCATION:Hilton Garden Inn Conference Center 3200 Vandiver Dr. Columbia mo 65202
UID:e.2790.11080
SEQUENCE:3
DTSTAMP:20260422T101539Z
URL:https://business.comochamber.com/events/details/ribbon-cutting-mu-health-care-11080
END:VEVENT

END:VCALENDAR
