BEGIN:VCALENDAR
VERSION:2.0
PRODID:-//ChamberMaster//Event Calendar 2.0//EN
METHOD:PUBLISH
X-PUBLISHED-TTL:P3D
REFRESH-INTERVAL:P3D
CALSCALE:GREGORIAN
BEGIN:VEVENT
DTSTART:20210125T180000Z
DTEND:20210125T183000Z
X-MICROSOFT-CDO-ALLDAYEVENT:FALSE
SUMMARY:RIBBON CUTTING: Morpheus IV Hydration & Infusion Center\, LLC
DESCRIPTION:Ambassadors will host a ribbon cutting celebrating the Grand Opening of Morpheus IV Hydration & Infusion Center\, LLC
X-ALT-DESC;FMTTYPE=text/html:Ambassadors will host a ribbon cutting celebrating the Grand Opening of Morpheus IV Hydration &amp\; Infusion Center\, LLC
LOCATION:MONDAY\, JANUARY 25 Event Start: 12 PM Ribbon cutting to follow + Morpheus IV Hydration & Infusion Center LLC Celebrating their Grand Opening Virtual: Join Zoom Meeting https://us02web.zoom.us/j/83164230298
UID:e.2790.7915
SEQUENCE:3
DTSTAMP:20260424T170121Z
URL:https://business.comochamber.com/events/details/ribbon-cutting-morpheus-iv-hydration-infusion-center-llc-7915
END:VEVENT

END:VCALENDAR
