BEGIN:VCALENDAR
VERSION:2.0
PRODID:-//ChamberMaster//Event Calendar 2.0//EN
METHOD:PUBLISH
X-PUBLISHED-TTL:P3D
REFRESH-INTERVAL:P3D
CALSCALE:GREGORIAN
BEGIN:VEVENT
DTSTART:20251007T223000Z
DTEND:20251007T223000Z
X-MICROSOFT-CDO-ALLDAYEVENT:FALSE
SUMMARY:RIBBON CUTTING: MoPro Training Grounds
DESCRIPTION:The Ambassadors will perform a ribbon cutting to celebrate a new location of MoPro Training Grounds.
X-ALT-DESC;FMTTYPE=text/html:<span data-olk-copy-source="CalendarCompose" style="font-family: Aptos\, Aptos_EmbeddedFont\, Aptos_MSFontService\, Calibri\, Helvetica\, sans-serif\; font-size: 12pt\; color: rgb(0\, 0\, 0)\;">The Ambassadors will perform a ribbon cutting to celebrate a new location of MoPro Training Grounds.&nbsp\;</span>
LOCATION:2207 Nelwood Dr. Suite 101 Missouri 65202 United States
UID:e.2790.12253
SEQUENCE:3
DTSTAMP:20260420T130535Z
URL:https://business.comochamber.com/events/details/ribbon-cutting-mopro-training-grounds-12253
END:VEVENT

END:VCALENDAR
