BEGIN:VCALENDAR
VERSION:2.0
PRODID:-//ChamberMaster//Event Calendar 2.0//EN
METHOD:PUBLISH
X-PUBLISHED-TTL:P3D
REFRESH-INTERVAL:P3D
CALSCALE:GREGORIAN
BEGIN:VEVENT
DTSTART:20230817T210000Z
DTEND:20230817T213000Z
X-MICROSOFT-CDO-ALLDAYEVENT:FALSE
SUMMARY:RIBBON CUTTING: Mobility Worldwide MO-Columbia
DESCRIPTION:Ambassadors will host a ribbon cutting celebrating Mobility Worldwide MO-Columbia's open house.
X-ALT-DESC;FMTTYPE=text/html:<span style="font-size:14px\;"><span style="font-family:verdana\;">Ambassadors will host a ribbon cutting celebrating Mobility Worldwide MO-Columbia&#39\;s open house.</span></span>
LOCATION:Mel and Barbara West Cart Center 4825 E Meyer Industrial Dr. Columbia\, Missouri 65201
UID:e.2790.11085
SEQUENCE:3
DTSTAMP:20260422T121858Z
URL:https://business.comochamber.com/events/details/ribbon-cutting-mobility-worldwide-mo-columbia-11085
END:VEVENT

END:VCALENDAR
