BEGIN:VCALENDAR
VERSION:2.0
PRODID:-//ChamberMaster//Event Calendar 2.0//EN
METHOD:PUBLISH
X-PUBLISHED-TTL:P3D
REFRESH-INTERVAL:P3D
CALSCALE:GREGORIAN
BEGIN:VEVENT
DTSTART:20231018T180000Z
DTEND:20231018T183000Z
X-MICROSOFT-CDO-ALLDAYEVENT:FALSE
SUMMARY:RIBBON CUTTING: MizzouRec
DESCRIPTION:Ambassadors will host a ribbon cutting celebrating MizzouRec's Grand Opening of their Outdoor Fitness Space.
X-ALT-DESC;FMTTYPE=text/html:<span style="font-size:14px\;"><span style="font-family:verdana\;">Ambassadors will host a ribbon cutting celebrating MizzouRec&#39\;s Grand Opening of their Outdoor Fitness Space.</span></span>
LOCATION:MizzouRec 1000 Rollins St. Columbia MO 65211
UID:e.2790.11178
SEQUENCE:3
DTSTAMP:20260422T101019Z
URL:https://business.comochamber.com/events/details/ribbon-cutting-mizzourec-11178
END:VEVENT

END:VCALENDAR
