BEGIN:VCALENDAR
VERSION:2.0
PRODID:-//ChamberMaster//Event Calendar 2.0//EN
METHOD:PUBLISH
X-PUBLISHED-TTL:P3D
REFRESH-INTERVAL:P3D
CALSCALE:GREGORIAN
BEGIN:VEVENT
DTSTART:20230202T203000Z
DTEND:20230202T210000Z
X-MICROSOFT-CDO-ALLDAYEVENT:FALSE
SUMMARY:RIBBON CUTTING: Mizzou Esports
DESCRIPTION:Ambassadors will host a ribbon cutting celebrating the Grand Opening of Mizzou Esports Gaming Lounge.
X-ALT-DESC;FMTTYPE=text/html:<span style="font-size:14px\;"><span style="font-family:verdana\;">Ambassadors will host a ribbon cutting celebrating the Grand Opening of Mizzou Esports Gaming Lounge.</span></span>
LOCATION:Mizzou Esports Gaming Lounge 402 Kentucky Blvd Columbia MO 65211
UID:e.2790.10539
SEQUENCE:3
DTSTAMP:20260423T005252Z
URL:https://business.comochamber.com/events/details/ribbon-cutting-mizzou-esports-10539
END:VEVENT

END:VCALENDAR
