BEGIN:VCALENDAR
VERSION:2.0
PRODID:-//ChamberMaster//Event Calendar 2.0//EN
METHOD:PUBLISH
X-PUBLISHED-TTL:P3D
REFRESH-INTERVAL:P3D
CALSCALE:GREGORIAN
BEGIN:VEVENT
DTSTART:20231009T170000Z
DTEND:20231009T170000Z
X-MICROSOFT-CDO-ALLDAYEVENT:FALSE
SUMMARY:RIBBON CUTTING: Mizzou Alumni Association
DESCRIPTION:Ambassadors will host a ribbon cutting celebrating the Mizzou Alumni Association's 2023 Homecoming Blood Drive.
X-ALT-DESC;FMTTYPE=text/html:<span style="font-size:14px\;"><span style="font-family:verdana\;">Ambassadors will host a ribbon cutting celebrating the Mizzou Alumni Association&#39\;s 2023 Homecoming Blood Drive.</span></span>
LOCATION:Hearnes Center 700 E Stadium Blvd. Columbia MO 65201
UID:e.2790.10929
SEQUENCE:3
DTSTAMP:20260422T101137Z
URL:https://business.comochamber.com/events/details/ribbon-cutting-mizzou-alumni-association-10929
END:VEVENT

END:VCALENDAR
