BEGIN:VCALENDAR
VERSION:2.0
PRODID:-//ChamberMaster//Event Calendar 2.0//EN
METHOD:PUBLISH
X-PUBLISHED-TTL:P3D
REFRESH-INTERVAL:P3D
CALSCALE:GREGORIAN
BEGIN:VEVENT
DTSTART;VALUE=DATE:20240904
DTEND;VALUE=DATE:20240905
TRANSP:TRANSPARENT
X-MICROSOFT-CDO-ALLDAYEVENT:TRUE
SUMMARY:RIBBON CUTTING: Missouri Women's Business Center
DESCRIPTION:Ambassadors will host a ribbon cutting celebrating the Missouri Women's Business Center's Microlending Program Kick-Off.
X-ALT-DESC;FMTTYPE=text/html:<span style="font-size:14px\;"><span style="font-family:verdana\;">Ambassadors will host a ribbon cutting celebrating the Missouri Women&#39\;s Business Center&#39\;s Microlending Program Kick-Off.</span></span>
LOCATION:The Shops at Sharp End 500 East Walnut\, Ste. 109 Columbia MO 65201
UID:e.2790.11465
SEQUENCE:3
DTSTAMP:20260421T105254Z
URL:https://business.comochamber.com/events/details/ribbon-cutting-missouri-women-s-business-center-11465
END:VEVENT

END:VCALENDAR
