BEGIN:VCALENDAR
VERSION:2.0
PRODID:-//ChamberMaster//Event Calendar 2.0//EN
METHOD:PUBLISH
X-PUBLISHED-TTL:P3D
REFRESH-INTERVAL:P3D
CALSCALE:GREGORIAN
BEGIN:VEVENT
DTSTART:20250122T213000Z
DTEND:20250122T220000Z
X-MICROSOFT-CDO-ALLDAYEVENT:FALSE
SUMMARY:RIBBON CUTTING: Missouri United Methodist Church
DESCRIPTION:The Ambassadors will conduct a ribbon cutting to celebrate and film the grand re-opening of Missouri United Methodist Church after fire reconstruction.
X-ALT-DESC;FMTTYPE=text/html:<span style="font-size:14px\;">The Ambassadors will conduct a ribbon cutting to celebrate and film the grand re-opening of&nbsp\;<span style="font-family:arial\,sans-serif\;">Missouri United Methodist Church after fire reconstruction.&nbsp\;</span></span>
LOCATION:204 South Ninth Street Columbia MO Missouri 65201
UID:e.2790.11690
SEQUENCE:3
DTSTAMP:20260421T052819Z
URL:https://business.comochamber.com/events/details/ribbon-cutting-missouri-united-methodist-church-11690
END:VEVENT

END:VCALENDAR
