BEGIN:VCALENDAR
VERSION:2.0
PRODID:-//ChamberMaster//Event Calendar 2.0//EN
METHOD:PUBLISH
X-PUBLISHED-TTL:P3D
REFRESH-INTERVAL:P3D
CALSCALE:GREGORIAN
BEGIN:VEVENT
DTSTART:20241206T173000Z
DTEND:20241206T180000Z
X-MICROSOFT-CDO-ALLDAYEVENT:FALSE
SUMMARY:RIBBON CUTTING: Missouri Symphony
DESCRIPTION:The Ambassadors will perform a ribbon cutting to commemorate the opening of Symphony League Holiday Home Tour.
X-ALT-DESC;FMTTYPE=text/html:The Ambassadors will perform a ribbon cutting to commemorate the opening of Symphony League Holiday Home Tour.
LOCATION:Ronald McDonald House of Mid-Missouri 1110 College Ave. Columbia\, MO 65201
UID:e.2790.11640
SEQUENCE:3
DTSTAMP:20260421T062153Z
URL:https://business.comochamber.com/events/details/ribbon-cutting-missouri-symphony-11640
END:VEVENT

END:VCALENDAR
