BEGIN:VCALENDAR
VERSION:2.0
PRODID:-//ChamberMaster//Event Calendar 2.0//EN
METHOD:PUBLISH
X-PUBLISHED-TTL:P3D
REFRESH-INTERVAL:P3D
CALSCALE:GREGORIAN
BEGIN:VEVENT
DTSTART:20240510T172000Z
DTEND:20240510T175000Z
X-MICROSOFT-CDO-ALLDAYEVENT:FALSE
SUMMARY:RIBBON CUTTING: Missouri River Relief
DESCRIPTION:Ambassadors will host a ribbon cutting ceremony celebrating Missouri River Relief's launch of a new Catfishing  Gear Library.
X-ALT-DESC;FMTTYPE=text/html:<span style="font-size:14px\;"><span style="font-family:verdana\;">Ambassadors will host a ribbon cutting ceremony celebrating Missouri River Relief&#39\;s launch of a new Catfishing&nbsp\; Gear Library.</span></span>
LOCATION:Missouri River Relief 916 N College Ave # 2 Columbia MO 65201
UID:e.2790.11240
SEQUENCE:3
DTSTAMP:20260421T223143Z
URL:https://business.comochamber.com/events/details/ribbon-cutting-missouri-river-relief-11240
END:VEVENT

END:VCALENDAR
