BEGIN:VCALENDAR
VERSION:2.0
PRODID:-//ChamberMaster//Event Calendar 2.0//EN
METHOD:PUBLISH
X-PUBLISHED-TTL:P3D
REFRESH-INTERVAL:P3D
CALSCALE:GREGORIAN
BEGIN:VEVENT
DTSTART:20250401T203000Z
DTEND:20250401T210000Z
X-MICROSOFT-CDO-ALLDAYEVENT:FALSE
SUMMARY:RIBBON CUTTING: Missouri Life Magazine
DESCRIPTION:Ambassadors will host a ribbon cutting to celebrate the official grand opening of the Missouri Life Magazine offices.
X-ALT-DESC;FMTTYPE=text/html:Ambassadors will host a ribbon cutting to celebrate the official grand opening of the Missouri Life Magazine offices.
LOCATION:208 Columbia St Rocheport\, MO 65279
UID:e.2790.11994
SEQUENCE:3
DTSTAMP:20260421T005040Z
URL:https://business.comochamber.com/events/details/ribbon-cutting-missouri-life-magazine-11994
END:VEVENT

END:VCALENDAR
