BEGIN:VCALENDAR
VERSION:2.0
PRODID:-//ChamberMaster//Event Calendar 2.0//EN
METHOD:PUBLISH
X-PUBLISHED-TTL:P3D
REFRESH-INTERVAL:P3D
CALSCALE:GREGORIAN
BEGIN:VEVENT
DTSTART:20250502T210000Z
DTEND:20250502T213000Z
X-MICROSOFT-CDO-ALLDAYEVENT:FALSE
SUMMARY:RIBBON CUTTING: Minuteman Press
DESCRIPTION:Ambassadors will host a ribbon cutting to celebrate Minuteman Press's new location.
X-ALT-DESC;FMTTYPE=text/html:Ambassadors will host a ribbon cutting to celebrate Minuteman Press&#39\;s new location.&nbsp\;
LOCATION:2201 Cottle Dr. Ste 105 Columbia\, MO 65202
UID:e.2790.12004
SEQUENCE:3
DTSTAMP:20260420T232906Z
URL:https://business.comochamber.com/events/details/ribbon-cutting-minuteman-press-12004
END:VEVENT

END:VCALENDAR
