BEGIN:VCALENDAR
VERSION:2.0
PRODID:-//ChamberMaster//Event Calendar 2.0//EN
METHOD:PUBLISH
X-PUBLISHED-TTL:P3D
REFRESH-INTERVAL:P3D
CALSCALE:GREGORIAN
BEGIN:VEVENT
DTSTART:20231010T213000Z
DTEND:20231010T220000Z
X-MICROSOFT-CDO-ALLDAYEVENT:FALSE
SUMMARY:RIBBON CUTTING: Midway Golf and Games
DESCRIPTION:Ambassadors will host a ribbon cutting celebrating Midway Golf and Games Grand Opening of their new facility.
X-ALT-DESC;FMTTYPE=text/html:<span style="font-size:14px\;"><span style="font-family:verdana\;">Ambassadors will host a ribbon cutting celebrating Midway Golf and Games Grand Opening of their new facility.</span></span>
LOCATION:Midway Golf and Games 5500 W Van Horn Tavern Rd. Columbia MO 65203
UID:e.2790.11171
SEQUENCE:3
DTSTAMP:20260422T101318Z
URL:https://business.comochamber.com/events/details/ribbon-cutting-midway-golf-and-games-11171
END:VEVENT

END:VCALENDAR
