BEGIN:VCALENDAR
VERSION:2.0
PRODID:-//ChamberMaster//Event Calendar 2.0//EN
METHOD:PUBLISH
X-PUBLISHED-TTL:P3D
REFRESH-INTERVAL:P3D
CALSCALE:GREGORIAN
BEGIN:VEVENT
DTSTART:20250313T201500Z
DTEND:20250313T204500Z
X-MICROSOFT-CDO-ALLDAYEVENT:FALSE
SUMMARY:RIBBON CUTTING: Mid America Bank
DESCRIPTION:The Ambassadors will perform a ribbon cutting to celebrate the Grand Opening of this location.
X-ALT-DESC;FMTTYPE=text/html:The Ambassadors will perform a ribbon cutting to celebrate the Grand Opening of this location.&nbsp\;
LOCATION:Mid America Bank 4601 Stellar Drive #101 Columbia\, MO 65201
UID:e.2790.11974
SEQUENCE:3
DTSTAMP:20260421T053652Z
URL:https://business.comochamber.com/events/details/ribbon-cutting-mid-america-bank-11974
END:VEVENT

END:VCALENDAR
