BEGIN:VCALENDAR
VERSION:2.0
PRODID:-//ChamberMaster//Event Calendar 2.0//EN
METHOD:PUBLISH
X-PUBLISHED-TTL:P3D
REFRESH-INTERVAL:P3D
CALSCALE:GREGORIAN
BEGIN:VEVENT
DTSTART:20221006T213000Z
DTEND:20221006T220000Z
X-MICROSOFT-CDO-ALLDAYEVENT:FALSE
SUMMARY:RIBBON CUTTING: Meals on Wheels of Columbia
DESCRIPTION:Ambassadors will host a ribbon cutting to celebrate the 50th anniversary of Meals on Wheels of Columbia.
X-ALT-DESC;FMTTYPE=text/html:<span style="font-size:14px\;"><span style="font-family:verdana\;">Ambassadors will host a ribbon cutting to celebrate the 50th anniversary of Meals on Wheels of Columbia.</span></span>
LOCATION:Twin Lakes Shelter 2500 Chapel Hill Columbia MO 65203
UID:e.2790.9135
SEQUENCE:3
DTSTAMP:20260423T054359Z
URL:https://business.comochamber.com/events/details/ribbon-cutting-meals-on-wheels-of-columbia-9135
END:VEVENT

END:VCALENDAR
