BEGIN:VCALENDAR
VERSION:2.0
PRODID:-//ChamberMaster//Event Calendar 2.0//EN
METHOD:PUBLISH
X-PUBLISHED-TTL:P3D
REFRESH-INTERVAL:P3D
CALSCALE:GREGORIAN
BEGIN:VEVENT
DTSTART:20231026T211500Z
DTEND:20231026T214500Z
X-MICROSOFT-CDO-ALLDAYEVENT:FALSE
SUMMARY:RIBBON CUTTING: McClure
DESCRIPTION:Ambassadors will host a ribbon cutting celebrating McClure's new office location.
X-ALT-DESC;FMTTYPE=text/html:<span style="font-size:14px\;"><span style="font-family:verdana\;">Ambassadors will host a ribbon cutting celebrating McClure&#39\;s new office location.</span></span>
LOCATION:McClure 2001 W. Broadway Columbia MO 65203
UID:e.2790.11176
SEQUENCE:3
DTSTAMP:20260422T101003Z
URL:https://business.comochamber.com/events/details/ribbon-cutting-mcclure-11176
END:VEVENT

END:VCALENDAR
