BEGIN:VCALENDAR
VERSION:2.0
PRODID:-//ChamberMaster//Event Calendar 2.0//EN
METHOD:PUBLISH
X-PUBLISHED-TTL:P3D
REFRESH-INTERVAL:P3D
CALSCALE:GREGORIAN
BEGIN:VEVENT
DTSTART;VALUE=DATE:20231025
DTEND;VALUE=DATE:20231026
TRANSP:TRANSPARENT
X-MICROSOFT-CDO-ALLDAYEVENT:TRUE
SUMMARY:RIBBON CUTTING: Mathnasium of Columbia MO
DESCRIPTION:Ambassadors will host a ribbon cutting celebrating Mathnasium of Columbia MO's grand opening of their new location.
X-ALT-DESC;FMTTYPE=text/html:<span style="font-size:14px\;"><span style="font-family:verdana\;">Ambassadors will host a ribbon cutting celebrating Mathnasium of Columbia MO&#39\;s grand opening of their new location.</span></span>
LOCATION:Mathnasium of Columbia MO 3606 Peachtree Dr. Ste. E Columbia MO 65203
UID:e.2790.11189
SEQUENCE:3
DTSTAMP:20260422T101554Z
URL:https://business.comochamber.com/events/details/ribbon-cutting-mathnasium-of-columbia-mo-11189
END:VEVENT

END:VCALENDAR
