BEGIN:VCALENDAR
VERSION:2.0
PRODID:-//ChamberMaster//Event Calendar 2.0//EN
METHOD:PUBLISH
X-PUBLISHED-TTL:P3D
REFRESH-INTERVAL:P3D
CALSCALE:GREGORIAN
BEGIN:VEVENT
DTSTART:20240516T223000Z
DTEND:20240516T230000Z
X-MICROSOFT-CDO-ALLDAYEVENT:FALSE
SUMMARY:RIBBON CUTTING: Maplewood Barn Community Theatre
DESCRIPTION:Ambassadors will host a ribbon cutting celebrating Maplewood Barn Community Theatre's Opening Night for First Show of the 51st Season.
X-ALT-DESC;FMTTYPE=text/html:<span style="font-size:14px\;"><span style="font-family:verdana\;">Ambassadors will host a ribbon cutting celebrating Maplewood Barn Community Theatre&#39\;s Opening Night for First Show of the 51st Season.</span></span>
LOCATION:Maplewood Barn Community Theatre 2900 E Nifong Blvd. Columbia MO 65203
UID:e.2790.11259
SEQUENCE:3
DTSTAMP:20260421T205640Z
URL:https://business.comochamber.com/events/details/ribbon-cutting-maplewood-barn-community-theatre-05-16-2024-11259
END:VEVENT

END:VCALENDAR
