BEGIN:VCALENDAR
VERSION:2.0
PRODID:-//ChamberMaster//Event Calendar 2.0//EN
METHOD:PUBLISH
X-PUBLISHED-TTL:P3D
REFRESH-INTERVAL:P3D
CALSCALE:GREGORIAN
BEGIN:VEVENT
DTSTART:20241003T144500Z
DTEND:20241003T151500Z
X-MICROSOFT-CDO-ALLDAYEVENT:FALSE
SUMMARY:RIBBON CUTTING: Love Columbia
DESCRIPTION:The Ambassadors will perform a ribbon cutting to break ground on a new 10-plex transitional housing complex\, Love Forward Homes.
X-ALT-DESC;FMTTYPE=text/html:The Ambassadors will perform a ribbon cutting to break ground on a new 10-plex transitional housing complex\, Love Forward Homes.
LOCATION:Open lot\, corner of ash and college 1221 E. Ash St. Columbia\, MO 65201
UID:e.2790.11641
SEQUENCE:3
DTSTAMP:20260421T093242Z
URL:https://business.comochamber.com/events/details/ribbon-cutting-love-columbia-10-03-2024-11641
END:VEVENT

END:VCALENDAR
