BEGIN:VCALENDAR
VERSION:2.0
PRODID:-//ChamberMaster//Event Calendar 2.0//EN
METHOD:PUBLISH
X-PUBLISHED-TTL:P3D
REFRESH-INTERVAL:P3D
CALSCALE:GREGORIAN
BEGIN:VEVENT
DTSTART:20231013T180000Z
DTEND:20231013T183000Z
X-MICROSOFT-CDO-ALLDAYEVENT:FALSE
SUMMARY:RIBBON CUTTING: Logboat Brewing Company
DESCRIPTION:Ambassadors will host a ribbon cutting celebrating their Grand Opening weekend!
X-ALT-DESC;FMTTYPE=text/html:<span style="font-size:14px\;"><span style="font-family:verdana\;">Ambassadors will host a ribbon cutting celebrating their Grand Opening weekend!</span></span>
LOCATION:Logboat Brewing Company 504 Fay St. Columbia MO 65201
UID:e.2790.11183
SEQUENCE:3
DTSTAMP:20260422T101329Z
URL:https://business.comochamber.com/events/details/ribbon-cutting-logboat-brewing-company-11183
END:VEVENT

END:VCALENDAR
