BEGIN:VCALENDAR
VERSION:2.0
PRODID:-//ChamberMaster//Event Calendar 2.0//EN
METHOD:PUBLISH
X-PUBLISHED-TTL:P3D
REFRESH-INTERVAL:P3D
CALSCALE:GREGORIAN
BEGIN:VEVENT
DTSTART:20240806T021500Z
DTEND:20240806T023000Z
X-MICROSOFT-CDO-ALLDAYEVENT:FALSE
SUMMARY:RIBBON CUTTING: Lenoir Woods Retirement Community
DESCRIPTION:Ambassadors will host a ribbon cutting celebrating Lenoir Woods's completion of our resident sports campus.
X-ALT-DESC;FMTTYPE=text/html:<span style="font-size:14px\;"><span style="font-family:verdana\;">Ambassadors will host a ribbon cutting celebrating Lenoir Woods&#39\;s completion of our resident sports campus.</span></span>
LOCATION:Lenoir Woods 3710 Lenoir St Columbia MO 65201 The ceremony is taking place at the Disc Golf Course\, on Cartwright Dr. at the intersection of Lemmon Dr.
UID:e.2790.11459
SEQUENCE:3
DTSTAMP:20260421T122701Z
URL:https://business.comochamber.com/events/details/ribbon-cutting-lenoir-woods-retirement-community-11459
END:VEVENT

END:VCALENDAR
