BEGIN:VCALENDAR
VERSION:2.0
PRODID:-//ChamberMaster//Event Calendar 2.0//EN
METHOD:PUBLISH
X-PUBLISHED-TTL:P3D
REFRESH-INTERVAL:P3D
CALSCALE:GREGORIAN
BEGIN:VEVENT
DTSTART:20210615T173000Z
DTEND:20210615T180000Z
X-MICROSOFT-CDO-ALLDAYEVENT:FALSE
SUMMARY:RIBBON CUTTING: Lean Kitchen Co. Columbia
DESCRIPTION:Ambassadors will host a ribbon cutting celebrating the Grand Opening of Lean Kitchen's new location and 1 year anniversary.
X-ALT-DESC;FMTTYPE=text/html:<span style="font-family:verdana\;"><span style="font-size:14px\;">Ambassadors will host a ribbon cutting celebrating the Grand Opening of Lean Kitchen&#39\;s new location and 1 year anniversary.</span></span>
LOCATION:212 E Green Meadows Rd Ste.# 5 Columbia MO 65203
UID:e.2790.8013
SEQUENCE:3
DTSTAMP:20260424T083348Z
URL:https://business.comochamber.com/events/details/ribbon-cutting-lean-kitchen-co-columbia-8013
END:VEVENT

END:VCALENDAR
