BEGIN:VCALENDAR
VERSION:2.0
PRODID:-//ChamberMaster//Event Calendar 2.0//EN
METHOD:PUBLISH
X-PUBLISHED-TTL:P3D
REFRESH-INTERVAL:P3D
CALSCALE:GREGORIAN
BEGIN:VEVENT
DTSTART:20240207T174500Z
DTEND:20240207T181500Z
X-MICROSOFT-CDO-ALLDAYEVENT:FALSE
SUMMARY:RIBBON CUTTING: Just Love Coffee Cafe - Crossroads
DESCRIPTION:Ambassadors will host a ribbon cutting celebrating Just Love Coffee's Grand Opening.
X-ALT-DESC;FMTTYPE=text/html:<span style="font-family: verdana\; font-size: 14px\;">Ambassadors will host a ribbon cutting celebrating Just Love Coffee&#39\;s Grand Opening.</span>
LOCATION:Just Love Coffee 2101 W Broadway\, Ste.104 Columbia MO 65203
UID:e.2790.11214
SEQUENCE:3
DTSTAMP:20260422T015759Z
URL:https://business.comochamber.com/events/details/ribbon-cutting-just-love-coffee-cafe-crossroads-11214
END:VEVENT

END:VCALENDAR
