BEGIN:VCALENDAR
VERSION:2.0
PRODID:-//ChamberMaster//Event Calendar 2.0//EN
METHOD:PUBLISH
X-PUBLISHED-TTL:P3D
REFRESH-INTERVAL:P3D
CALSCALE:GREGORIAN
BEGIN:VEVENT
DTSTART:20240206T174500Z
DTEND:20240206T181500Z
X-MICROSOFT-CDO-ALLDAYEVENT:FALSE
SUMMARY:RIBBON CUTTING: Just Love Coffee Cafe - Battle Crossing
DESCRIPTION:Ambassadors will host a ribbon cutting celebrating Just Love Coffee's Anniversary.
X-ALT-DESC;FMTTYPE=text/html:<span style="font-size:14px\;"><span style="font-family:verdana\;">Ambassadors will host a ribbon cutting celebrating Just Love Coffee&#39\;s Anniversary.</span></span>
LOCATION:Just Love Coffee - Battle Crossing 5414 Clark Lane Columbia MO 65202
UID:e.2790.11213
SEQUENCE:3
DTSTAMP:20260422T015758Z
URL:https://business.comochamber.com/events/details/ribbon-cutting-just-love-coffee-cafe-battle-crossing-11213
END:VEVENT

END:VCALENDAR
