BEGIN:VCALENDAR
VERSION:2.0
PRODID:-//ChamberMaster//Event Calendar 2.0//EN
METHOD:PUBLISH
X-PUBLISHED-TTL:P3D
REFRESH-INTERVAL:P3D
CALSCALE:GREGORIAN
BEGIN:VEVENT
DTSTART:20241122T213000Z
DTEND:20241122T220000Z
X-MICROSOFT-CDO-ALLDAYEVENT:FALSE
SUMMARY:RIBBON CUTTING: Junior Achievement in Central Missouri
DESCRIPTION:The Ambassadors will perform a ribbon cutting for the third annual Free Photos with Santa and Mrs. Claus event.
X-ALT-DESC;FMTTYPE=text/html:The Ambassadors will perform a ribbon cutting for the third annual Free Photos with Santa and Mrs. Claus event.
LOCATION:Orr Street Studios 106 Orr St. Columbia\, MO 65201
UID:e.2790.11648
SEQUENCE:3
DTSTAMP:20260421T073942Z
URL:https://business.comochamber.com/events/details/ribbon-cutting-junior-achievement-in-central-missouri-11648
END:VEVENT

END:VCALENDAR
