BEGIN:VCALENDAR
VERSION:2.0
PRODID:-//ChamberMaster//Event Calendar 2.0//EN
METHOD:PUBLISH
X-PUBLISHED-TTL:P3D
REFRESH-INTERVAL:P3D
CALSCALE:GREGORIAN
BEGIN:VEVENT
DTSTART:20251016T223000Z
DTEND:20251016T223000Z
X-MICROSOFT-CDO-ALLDAYEVENT:FALSE
SUMMARY:RIBBON CUTTING: Johnston Paint and Decorating
DESCRIPTION:The Ambassadors will perform a ribbon cutting to celebrate the 100th Anniversary of Johnston Paint and Decorating
X-ALT-DESC;FMTTYPE=text/html:<p style="margin-top: 0px\; margin-bottom: 0px\; font-family: Aptos\, sans-serif\;"><span style="font-family: Arial\, Helvetica\, sans-serif\; font-size: 11pt\; color: black\;">The Ambassadors will perform a ribbon cutting to celebrate the 100th Anniversary of Johnston Paint and Decorating</span></p>\n
LOCATION:3409 Buttonwood Dr\, Columbia\, MO Missouri 65201 United States
UID:e.2790.12246
SEQUENCE:3
DTSTAMP:20260420T142959Z
URL:https://business.comochamber.com/events/details/ribbon-cutting-johnston-paint-and-decorating-12246
END:VEVENT

END:VCALENDAR
