BEGIN:VCALENDAR
VERSION:2.0
PRODID:-//ChamberMaster//Event Calendar 2.0//EN
METHOD:PUBLISH
X-PUBLISHED-TTL:P3D
REFRESH-INTERVAL:P3D
CALSCALE:GREGORIAN
BEGIN:VEVENT
DTSTART:20210923T153000Z
DTEND:20210923T160000Z
X-MICROSOFT-CDO-ALLDAYEVENT:FALSE
SUMMARY:RIBBON CUTTING: Job Point
DESCRIPTION:Ambassadors will host a ribbon cutting celebrating the new apprenticeship program partnership with Emery Sapp & Sons.
X-ALT-DESC;FMTTYPE=text/html:Ambassadors will host a ribbon cutting celebrating the new apprenticeship program partnership with Emery Sapp &amp\; Sons.
LOCATION:Job Point 400 Wilkes Blvd. Columbia MO 65201
UID:e.2790.8145
SEQUENCE:3
DTSTAMP:20260424T040336Z
URL:https://business.comochamber.com/events/details/ribbon-cutting-job-point-8145
END:VEVENT

END:VCALENDAR
