BEGIN:VCALENDAR
VERSION:2.0
PRODID:-//ChamberMaster//Event Calendar 2.0//EN
METHOD:PUBLISH
X-PUBLISHED-TTL:P3D
REFRESH-INTERVAL:P3D
CALSCALE:GREGORIAN
BEGIN:VEVENT
DTSTART:20250910T151500Z
DTEND:20250911T034500Z
X-MICROSOFT-CDO-ALLDAYEVENT:FALSE
SUMMARY:RIBBON CUTTING: Job Point
DESCRIPTION:The Ambassadors will perform a ribbon cutting to celebrate the unveiling of the Art Shed Job Point students build for residents of Flourish's Youth Shelter.
X-ALT-DESC;FMTTYPE=text/html:The Ambassadors will perform a ribbon cutting to celebrate the unveiling of the Art Shed Job Point students build for residents of Flourish&#39\;s Youth Shelter.
LOCATION:400 Wilkes Boulevard Columbia\, MO 65201
UID:e.2790.12140
SEQUENCE:3
DTSTAMP:20260420T165559Z
URL:https://business.comochamber.com/events/details/ribbon-cutting-job-point-12140
END:VEVENT

END:VCALENDAR
