BEGIN:VCALENDAR
VERSION:2.0
PRODID:-//ChamberMaster//Event Calendar 2.0//EN
METHOD:PUBLISH
X-PUBLISHED-TTL:P3D
REFRESH-INTERVAL:P3D
CALSCALE:GREGORIAN
BEGIN:VEVENT
DTSTART:20250617T150000Z
DTEND:20250617T153000Z
X-MICROSOFT-CDO-ALLDAYEVENT:FALSE
SUMMARY:RIBBON CUTTING: Job Point
DESCRIPTION:The Ambassadors will perform a ribbon cutting to celebrate the beginning of construction on their next housing project\, and Ameren Missouri's investment in the project.
X-ALT-DESC;FMTTYPE=text/html:The Ambassadors will perform a ribbon cutting to celebrate the beginning of construction on their next housing project\, and Ameren Missouri&#39\;s investment in the project.&nbsp\;
LOCATION:903 Garth Avenue\, Columbia\, MO 65201
UID:e.2790.12035
SEQUENCE:3
DTSTAMP:20260420T215800Z
URL:https://business.comochamber.com/events/details/ribbon-cutting-job-point-12035
END:VEVENT

END:VCALENDAR
